BEGIN:VCALENDAR
VERSION:2.0
PRODID:-//Squarespace Inc/Squarespace 6//v6//EN
BEGIN:VEVENT
UID:5d4ab3eaa0e2c400014e86c9@squarespace.com
DTSTAMP:20190807T112127Z
DTSTART:20200919T130000Z
DTEND:20200920T213000Z
SUMMARY:SOTC Auckland Seminar
END:VEVENT
END:VCALENDAR
