BEGIN:VCALENDAR
VERSION:2.0
PRODID:-//Squarespace Inc/Squarespace 6//v6//EN
BEGIN:VEVENT
UID:5d4ab388e6cf6c00012b1fd8@squarespace.com
DTSTAMP:20190807T111856Z
DTSTART:20200808T130000Z
DTEND:20200808T200000Z
SUMMARY:Canterbury KF Grading
END:VEVENT
END:VCALENDAR
