BEGIN:VCALENDAR
VERSION:2.0
PRODID:-//Squarespace Inc/Squarespace 6//v6//EN
BEGIN:VEVENT
UID:5d4ab36ce6cf6c00012b1ef2@squarespace.com
DTSTAMP:20190807T111823Z
DTSTART:20200804T230000Z
DTEND:20200805T000000Z
SUMMARY:Canterbury TC Exercise Grading
END:VEVENT
END:VCALENDAR
