BEGIN:VCALENDAR
VERSION:2.0
PRODID:-//Squarespace Inc/Squarespace 6//v6//EN
BEGIN:VEVENT
UID:5d4ab3a9be2ba400016a9dd5@squarespace.com
DTSTAMP:20190904T033120Z
DTSTART:20200828T213000Z
DTEND:20200830T160000Z
SUMMARY:Annual KF Camp (Invercargill)
END:VEVENT
END:VCALENDAR
