BEGIN:VCALENDAR
VERSION:2.0
PRODID:-//Squarespace Inc/Squarespace 6//v6//EN
BEGIN:VEVENT
UID:5d4ab2f5e81d3a0001892a94@squarespace.com
DTSTAMP:20190807T111629Z
DTSTART:20200705T133000Z
DTEND:20200705T203000Z
SUMMARY:Sydney KF Seminar
END:VEVENT
END:VCALENDAR
