BEGIN:VCALENDAR
VERSION:2.0
PRODID:-//Squarespace Inc/Squarespace 6//v6//EN
BEGIN:VEVENT
UID:5d4ab2cfe6cf6c00012b1913@squarespace.com
DTSTAMP:20190807T111556Z
DTSTART:20200704T140000Z
DTEND:20200705T010000Z
SUMMARY:Sydney SOTC Seminar
END:VEVENT
END:VCALENDAR
