BEGIN:VCALENDAR
VERSION:2.0
PRODID:-//Squarespace Inc/Squarespace 6//v6//EN
BEGIN:VEVENT
UID:5d4ab350a0e2c400014e808c@squarespace.com
DTSTAMP:20190807T111753Z
DTSTART:20200726T130000Z
DTEND:20200726T170000Z
SUMMARY:Nelson TC Ex Grading and Seminar
END:VEVENT
END:VCALENDAR
