BEGIN:VCALENDAR
VERSION:2.0
PRODID:-//Squarespace Inc/Squarespace 6//v6//EN
BEGIN:VEVENT
UID:5d4ab31bc2f30d0001fae794@squarespace.com
DTSTAMP:20190807T111727Z
DTSTART:20200725T170000Z
DTEND:20200725T220000Z
SUMMARY:Nelson KF Seminar and Grading
END:VEVENT
END:VCALENDAR
