BEGIN:VCALENDAR
VERSION:2.0
PRODID:-//Squarespace Inc/Squarespace 6//v6//EN
BEGIN:VEVENT
UID:5d4ab2965df26e00017bcd4d@squarespace.com
DTSTAMP:20190807T111449Z
DTSTART:20200616T230000Z
DTEND:20200617T000000Z
SUMMARY:Canterbury TC Exercise Grading
END:VEVENT
END:VCALENDAR
