BEGIN:VCALENDAR
VERSION:2.0
PRODID:-//Squarespace Inc/Squarespace 6//v6//EN
BEGIN:VEVENT
UID:5d4ab263eab07100015da51e@squarespace.com
DTSTAMP:20190807T111417Z
DTSTART:20200531T130000Z
DTEND:20200531T200000Z
SUMMARY:Annual Tournament
END:VEVENT
END:VCALENDAR
