BEGIN:VCALENDAR
VERSION:2.0
PRODID:-//Squarespace Inc/Squarespace 6//v6//EN
BEGIN:VEVENT
UID:5d4ab2362a5e0f0001e7cb55@squarespace.com
DTSTAMP:20190807T111329Z
DTSTART:20200530T130000Z
DTEND:20200530T220000Z
SUMMARY:Annual KF &amp\; TC Seminar
END:VEVENT
END:VCALENDAR
