BEGIN:VCALENDAR
VERSION:2.0
PRODID:-//Squarespace Inc/Squarespace 6//v6//EN
BEGIN:VEVENT
UID:5d4ab208e6cf6c00012b11f2@squarespace.com
DTSTAMP:20190807T111227Z
DTSTART:20200503T130000Z
DTEND:20200503T170000Z
SUMMARY:Wellington TC Ex Grading and Seminar
END:VEVENT
END:VCALENDAR
