BEGIN:VCALENDAR
VERSION:2.0
PRODID:-//Squarespace Inc/Squarespace 6//v6//EN
BEGIN:VEVENT
UID:5d4ab1bca0e2c400014e6d0a@squarespace.com
DTSTAMP:20190807T111157Z
DTSTART:20200502T170000Z
DTEND:20200502T220000Z
SUMMARY:Wellington KF Grading and Seminar
END:VEVENT
END:VCALENDAR
