BEGIN:VCALENDAR
VERSION:2.0
PRODID:-//Squarespace Inc/Squarespace 6//v6//EN
BEGIN:VEVENT
UID:5d4ab0d6fe4cc00001a24274@squarespace.com
DTSTAMP:20190807T110728Z
DTSTART:20200405T130000Z
DTEND:20200405T170000Z
SUMMARY:Invercargill TC Ex Grading and Seminar
END:VEVENT
END:VCALENDAR
