BEGIN:VCALENDAR
VERSION:2.0
PRODID:-//Squarespace Inc/Squarespace 6//v6//EN
BEGIN:VEVENT
UID:5d4aaca7127c9600012b499b@squarespace.com
DTSTAMP:20190807T113401Z
DTSTART:20200404T180000Z
DTEND:20200404T220000Z
SUMMARY:Invercargill KF Grading and Seminar
END:VEVENT
END:VCALENDAR
