BEGIN:VCALENDAR
VERSION:2.0
PRODID:-//Squarespace Inc/Squarespace 6//v6//EN
BEGIN:VEVENT
UID:5d4ab169e81d3a0001891a89@squarespace.com
DTSTAMP:20190807T111023Z
DTSTART:20200425T130000Z
DTEND:20200426T190000Z
SUMMARY:SOTC Christchurch Seminar
END:VEVENT
END:VCALENDAR
