BEGIN:VCALENDAR
VERSION:2.0
PRODID:-//Squarespace Inc/Squarespace 6//v6//EN
BEGIN:VEVENT
UID:5d4ab12ccd18d800012d8875@squarespace.com
DTSTAMP:20190807T110852Z
DTSTART:20200421T230000Z
DTEND:20200422T000000Z
SUMMARY:Canterbury TC Exercise Grading
END:VEVENT
END:VCALENDAR
