BEGIN:VCALENDAR
VERSION:2.0
PRODID:-//Squarespace Inc/Squarespace 6//v6//EN
BEGIN:VEVENT
UID:5d4ab0faeab07100015d9858@squarespace.com
DTSTAMP:20190807T110802Z
DTSTART:20200418T130000Z
DTEND:20200418T200000Z
SUMMARY:Canterbury KF Grading
END:VEVENT
END:VCALENDAR
