BEGIN:VCALENDAR
VERSION:2.0
PRODID:-//Squarespace Inc/Squarespace 6//v6//EN
BEGIN:VEVENT
UID:5d4aac01792dc90001ebe363@squarespace.com
DTSTAMP:20190807T104648Z
DTSTART:20200308T130000Z
DTEND:20200308T170000Z
SUMMARY:Nelson TC Ex Grading and Seminar
END:VEVENT
END:VCALENDAR
