BEGIN:VCALENDAR
VERSION:2.0
PRODID:-//Squarespace Inc/Squarespace 6//v6//EN
BEGIN:VEVENT
UID:5d4aabca13c5630001ec8566@squarespace.com
DTSTAMP:20190807T104612Z
DTSTART:20200307T180000Z
DTEND:20200307T230000Z
SUMMARY:Nelson KF Seminar and Grading
END:VEVENT
END:VCALENDAR
