BEGIN:VCALENDAR
VERSION:2.0
PRODID:-//Squarespace Inc/Squarespace 6//v6//EN
BEGIN:VEVENT
UID:5d4aac25be2ba400016a57dd@squarespace.com
DTSTAMP:20190807T113147Z
DTSTART:20200328T130000Z
DTEND:20200329T213000Z
SUMMARY:SOTC Student Camp - Auckland
END:VEVENT
END:VCALENDAR
