BEGIN:VCALENDAR
VERSION:2.0
PRODID:-//Squarespace Inc/Squarespace 6//v6//EN
BEGIN:VEVENT
UID:5d4aab52be2ba400016a4d13@squarespace.com
DTSTAMP:20190807T104434Z
DTSTART:20200229T140000Z
DTEND:20200229T210000Z
SUMMARY:Canterbury Advanced KF Grading
END:VEVENT
END:VCALENDAR
