BEGIN:VCALENDAR
VERSION:2.0
PRODID:-//Squarespace Inc/Squarespace 6//v6//EN
BEGIN:VEVENT
UID:5d4aaacd53ed6c00013b29d1@squarespace.com
DTSTAMP:20190807T104427Z
DTSTART:20200226T000000Z
DTEND:20200226T010000Z
SUMMARY:Canterbury TC Exercise Grading
END:VEVENT
END:VCALENDAR
