BEGIN:VCALENDAR
VERSION:2.0
PRODID:-//Squarespace Inc/Squarespace 6//v6//EN
BEGIN:VEVENT
UID:5d4ab85a792dc90001ec5a9e@squarespace.com
DTSTAMP:20190807T113930Z
DTSTART:20201209T000000Z
DTEND:20201209T010000Z
SUMMARY:Canterbury TC Exercise Grading
END:VEVENT
END:VCALENDAR
