BEGIN:VCALENDAR
VERSION:2.0
PRODID:-//Squarespace Inc/Squarespace 6//v6//EN
BEGIN:VEVENT
UID:5d4ab5feba997c00019dbc6e@squarespace.com
DTSTAMP:20190807T112931Z
DTSTART:20201222T223000Z
DTEND:20201223T013000Z
SUMMARY:HQ Last Day Training
END:VEVENT
END:VCALENDAR
