BEGIN:VCALENDAR
VERSION:2.0
PRODID:-//Squarespace Inc/Squarespace 6//v6//EN
BEGIN:VEVENT
UID:5d4ab5e2e81d3a0001894a87@squarespace.com
DTSTAMP:20190807T112853Z
DTSTART:20201212T140000Z
DTEND:20201212T210000Z
SUMMARY:Canterbury KF Grading
END:VEVENT
END:VCALENDAR
