BEGIN:VCALENDAR
VERSION:2.0
PRODID:-//Squarespace Inc/Squarespace 6//v6//EN
BEGIN:VEVENT
UID:5d4ab500ba997c00019db394@squarespace.com
DTSTAMP:20190807T112525Z
DTSTART:20201108T140000Z
DTEND:20201108T180000Z
SUMMARY:Dunedin TC Ex Grading and Seminar
END:VEVENT
END:VCALENDAR
