BEGIN:VCALENDAR
VERSION:2.0
PRODID:-//Squarespace Inc/Squarespace 6//v6//EN
BEGIN:VEVENT
UID:5d4ab4c8c2f30d0001faf8b6@squarespace.com
DTSTAMP:20190807T112438Z
DTSTART:20201107T180000Z
DTEND:20201107T230000Z
SUMMARY:Dunedin KF Grading and Seminar
END:VEVENT
END:VCALENDAR
