BEGIN:VCALENDAR
VERSION:2.0
PRODID:-//Squarespace Inc/Squarespace 6//v6//EN
BEGIN:VEVENT
UID:5d4ab5b8eab07100015dc6f4@squarespace.com
DTSTAMP:20190807T112825Z
DTSTART:20201128T140000Z
DTEND:20201129T040000Z
SUMMARY:Annual BB Grading and Awards
END:VEVENT
END:VCALENDAR
