BEGIN:VCALENDAR
VERSION:2.0
PRODID:-//Squarespace Inc/Squarespace 6//v6//EN
BEGIN:VEVENT
UID:5d4ab593fe4cc00001a273f7@squarespace.com
DTSTAMP:20190807T112742Z
DTSTART:20201127T223000Z
DTEND:20201128T020000Z
SUMMARY:Annual BB and TC Instructors Meeting
END:VEVENT
END:VCALENDAR
