BEGIN:VCALENDAR
VERSION:2.0
PRODID:-//Squarespace Inc/Squarespace 6//v6//EN
BEGIN:VEVENT
UID:5d4ab52e2a5e0f0001e7eb9a@squarespace.com
DTSTAMP:20190807T112700Z
DTSTART:20201113T140000Z
DTEND:20201115T223000Z
SUMMARY:SOTC Instructor Camp - Christchurch
END:VEVENT
END:VCALENDAR
