BEGIN:VCALENDAR
VERSION:2.0
PRODID:-//Squarespace Inc/Squarespace 6//v6//EN
BEGIN:VEVENT
UID:5d4ab4ab13c5630001ecd8fc@squarespace.com
DTSTAMP:20190807T112340Z
DTSTART:20201101T140000Z
DTEND:20201101T180000Z
SUMMARY:Wellington TC Ex Grading and Seminar
END:VEVENT
END:VCALENDAR
