BEGIN:VCALENDAR
VERSION:2.0
PRODID:-//Squarespace Inc/Squarespace 6//v6//EN
BEGIN:VEVENT
UID:5d4ab4807b3fb600014d3be7@squarespace.com
DTSTAMP:20190807T112313Z
DTSTART:20201031T170000Z
DTEND:20201031T220000Z
SUMMARY:Wellington KF Grading and Seminar
END:VEVENT
END:VCALENDAR
