BEGIN:VCALENDAR
VERSION:2.0
PRODID:-//Squarespace Inc/Squarespace 6//v6//EN
BEGIN:VEVENT
UID:5d4ab445eab07100015db985@squarespace.com
DTSTAMP:20190807T112203Z
DTSTART:20201017T130000Z
DTEND:20201017T200000Z
SUMMARY:Canterbury KF Grading
END:VEVENT
END:VCALENDAR
