BEGIN:VCALENDAR
VERSION:2.0
PRODID:-//Squarespace Inc/Squarespace 6//v6//EN
BEGIN:VEVENT
UID:5d4ab88313c5630001ecff5a@squarespace.com
DTSTAMP:20190807T113958Z
DTSTART:20201013T230000Z
DTEND:20201014T000000Z
SUMMARY:Canterbury TC Exercise Grading
END:VEVENT
END:VCALENDAR
