BEGIN:VCALENDAR
VERSION:2.0
PRODID:-//Squarespace Inc/Squarespace 6//v6//EN
BEGIN:VEVENT
UID:5c91907ae4966b53e03472e1@squarespace.com
DTSTAMP:20190320T010037Z
DTSTART:20190914T130000Z
DTEND:20190915T010000Z
SUMMARY:SOTC Christchurch Grading and Seminar
END:VEVENT
END:VCALENDAR
