BEGIN:VCALENDAR
VERSION:2.0
PRODID:-//Squarespace Inc/Squarespace 6//v6//EN
BEGIN:VEVENT
UID:5c918ffdf4e1fc4c553d2b7c@squarespace.com
DTSTAMP:20190320T005759Z
DTSTART:20190806T230000Z
DTEND:20190807T000000Z
SUMMARY:Canterbury TC Ex Grading
END:VEVENT
END:VCALENDAR
