BEGIN:VCALENDAR
VERSION:2.0
PRODID:-//Squarespace Inc/Squarespace 6//v6//EN
BEGIN:VEVENT
UID:5c9190444e17b673ce23e5da@squarespace.com
DTSTAMP:20190320T005922Z
DTSTART:20190823T220000Z
DTEND:20190825T160000Z
SUMMARY:Annual KF Camp (Nelson)
END:VEVENT
END:VCALENDAR
