BEGIN:VCALENDAR
VERSION:2.0
PRODID:-//Squarespace Inc/Squarespace 6//v6//EN
BEGIN:VEVENT
UID:5c919023a4222f5031647847@squarespace.com
DTSTAMP:20190320T005835Z
DTSTART:20190810T130000Z
DTEND:20190810T190000Z
SUMMARY:Canterbury KF Grading
END:VEVENT
END:VCALENDAR
