BEGIN:VCALENDAR
VERSION:2.0
PRODID:-//Squarespace Inc/Squarespace 6//v6//EN
BEGIN:VEVENT
UID:5c918f4ce5e5f0f33603f902@squarespace.com
DTSTAMP:20190320T005501Z
DTSTART:20190707T140000Z
DTEND:20190707T200000Z
SUMMARY:Sydney KF Seminar
END:VEVENT
END:VCALENDAR
