BEGIN:VCALENDAR
VERSION:2.0
PRODID:-//Squarespace Inc/Squarespace 6//v6//EN
BEGIN:VEVENT
UID:5c918f237817f72e2c2a696a@squarespace.com
DTSTAMP:20190320T005427Z
DTSTART:20190706T230000Z
DTEND:20190707T000000Z
SUMMARY:Sydney SOTC Seminar
END:VEVENT
END:VCALENDAR
