BEGIN:VCALENDAR
VERSION:2.0
PRODID:-//Squarespace Inc/Squarespace 6//v6//EN
BEGIN:VEVENT
UID:5c918fcfe4966b53e0346b25@squarespace.com
DTSTAMP:20190320T005719Z
DTSTART:20190728T130000Z
DTEND:20190728T160000Z
SUMMARY:Nelson TC Ex Grading and Seminar
END:VEVENT
END:VCALENDAR
