BEGIN:VCALENDAR
VERSION:2.0
PRODID:-//Squarespace Inc/Squarespace 6//v6//EN
BEGIN:VEVENT
UID:5c918fb16e9a7f5043528ad0@squarespace.com
DTSTAMP:20190320T005638Z
DTSTART:20190727T170000Z
DTEND:20190727T210000Z
SUMMARY:Nelson KF Seminar and Grading
END:VEVENT
END:VCALENDAR
