BEGIN:VCALENDAR
VERSION:2.0
PRODID:-//Squarespace Inc/Squarespace 6//v6//EN
BEGIN:VEVENT
UID:5c918f946e9a7f504352897c@squarespace.com
DTSTAMP:20190320T005608Z
DTSTART:20190720T170000Z
DTEND:20190720T200000Z
SUMMARY:Auckland KF Seminar
END:VEVENT
END:VCALENDAR
