BEGIN:VCALENDAR
VERSION:2.0
PRODID:-//Squarespace Inc/Squarespace 6//v6//EN
BEGIN:VEVENT
UID:5c918f72c830257438e1059c@squarespace.com
DTSTAMP:20190320T005535Z
DTSTART:20190713T170000Z
DTEND:20190713T200000Z
SUMMARY:Women's Self Defence Seminar
END:VEVENT
END:VCALENDAR
