BEGIN:VCALENDAR
VERSION:2.0
PRODID:-//Squarespace Inc/Squarespace 6//v6//EN
BEGIN:VEVENT
UID:5c918ef7b208fc477036b6ca@squarespace.com
DTSTAMP:20190320T005342Z
DTSTART:20190629T140000Z
DTEND:20190629T170000Z
SUMMARY:Canterbury Kids Day Out
END:VEVENT
END:VCALENDAR
