BEGIN:VCALENDAR
VERSION:2.0
PRODID:-//Squarespace Inc/Squarespace 6//v6//EN
BEGIN:VEVENT
UID:5c918e8f71c10b94b579c003@squarespace.com
DTSTAMP:20190320T005146Z
DTSTART:20190602T130000Z
DTEND:20190602T190000Z
SUMMARY:Annual KF Tournament
END:VEVENT
END:VCALENDAR
