BEGIN:VCALENDAR
VERSION:2.0
PRODID:-//Squarespace Inc/Squarespace 6//v6//EN
BEGIN:VEVENT
UID:5c918ecd7817f72e2c2a65d8@squarespace.com
DTSTAMP:20190320T005257Z
DTSTART:20190615T130000Z
DTEND:20190615T200000Z
SUMMARY:Canterbury Advanced KF Grading
END:VEVENT
END:VCALENDAR
