BEGIN:VCALENDAR
VERSION:2.0
PRODID:-//Squarespace Inc/Squarespace 6//v6//EN
BEGIN:VEVENT
UID:5c9192bce4966b53e0348d08@squarespace.com
DTSTAMP:20190320T010934Z
DTSTART:20191221T020000Z
DTEND:20191221T030000Z
SUMMARY:HQ Last Day Training
END:VEVENT
END:VCALENDAR
