BEGIN:VCALENDAR
VERSION:2.0
PRODID:-//Squarespace Inc/Squarespace 6//v6//EN
BEGIN:VEVENT
UID:5c919298a4222f503164932d@squarespace.com
DTSTAMP:20190320T010905Z
DTSTART:20191214T140000Z
DTEND:20191214T200000Z
SUMMARY:Canterbury KF Grading
END:VEVENT
END:VCALENDAR
